BEGIN:VCALENDAR
VERSION:2.0
PRODID:-//Association Brigitte Schick - ECPv6.15.17//NONSGML v1.0//EN
CALSCALE:GREGORIAN
METHOD:PUBLISH
X-ORIGINAL-URL:http://www.asso-bschick.fr
X-WR-CALDESC:Évènements pour Association Brigitte Schick
REFRESH-INTERVAL;VALUE=DURATION:PT1H
X-Robots-Tag:noindex
X-PUBLISHED-TTL:PT1H
BEGIN:VTIMEZONE
TZID:Europe/Paris
BEGIN:DAYLIGHT
TZOFFSETFROM:+0100
TZOFFSETTO:+0200
TZNAME:CEST
DTSTART:20210328T010000
END:DAYLIGHT
BEGIN:STANDARD
TZOFFSETFROM:+0200
TZOFFSETTO:+0100
TZNAME:CET
DTSTART:20211031T010000
END:STANDARD
BEGIN:DAYLIGHT
TZOFFSETFROM:+0100
TZOFFSETTO:+0200
TZNAME:CEST
DTSTART:20220327T010000
END:DAYLIGHT
BEGIN:STANDARD
TZOFFSETFROM:+0200
TZOFFSETTO:+0100
TZNAME:CET
DTSTART:20221030T010000
END:STANDARD
BEGIN:DAYLIGHT
TZOFFSETFROM:+0100
TZOFFSETTO:+0200
TZNAME:CEST
DTSTART:20230326T010000
END:DAYLIGHT
BEGIN:STANDARD
TZOFFSETFROM:+0200
TZOFFSETTO:+0100
TZNAME:CET
DTSTART:20231029T010000
END:STANDARD
END:VTIMEZONE
BEGIN:VEVENT
DTSTART;TZID=Europe/Paris:20220827T143000
DTEND;TZID=Europe/Paris:20220827T170000
DTSTAMP:20260422T075147
CREATED:20220517T165912Z
LAST-MODIFIED:20220827T111136Z
UID:1077-1661610600-1661619600@www.asso-bschick.fr
SUMMARY:Gebweilers Neustadt La « nouvelle ville » de Guebwiller (1870 – 1914)
DESCRIPTION:L’expansion urbaine à l’assaut des jardins ! \nUne déambulation urbaine organisée et commentée par l’Association Brigitte Schick. \nCe circuit piéton dans les rues de Guebwiller vous entrainera il y a un peu plus de 100 ans dans l’expansion urbaine réalisée pendant la période de cession de l’Alsace-Lorraine à l’Allemagne. \nRedécouvrez ces bâtiments administratifs et belles demeures remarquables qui ont su traverser le 20ème siècle ! \nSortie gratuite\, ouverte à tous\, d’une durée d’environ 2H30. \nAttention\, prévoir des chaussures de marche et une tenue adaptée à la météo. \nRendez-vous le samedi 27 Août 2022 à 14H30 sur le parking Filonova (derrière le Crédit Mutuel de Guebwiller).
URL:http://www.asso-bschick.fr/event/gebweilers-neustadt-la-nouvelle-ville-de-guebwiller-1870-1914-2/
CATEGORIES:Conférence,Visite
ORGANIZER;CN="Association Brigitte Schick":MAILTO:contact@asso-bschick.fr
END:VEVENT
END:VCALENDAR