BEGIN:VCALENDAR
VERSION:2.0
PRODID:-//Association Brigitte Schick - ECPv6.15.17//NONSGML v1.0//EN
CALSCALE:GREGORIAN
METHOD:PUBLISH
X-ORIGINAL-URL:http://www.asso-bschick.fr
X-WR-CALDESC:Évènements pour Association Brigitte Schick
REFRESH-INTERVAL;VALUE=DURATION:PT1H
X-Robots-Tag:noindex
X-PUBLISHED-TTL:PT1H
BEGIN:VTIMEZONE
TZID:Europe/Paris
BEGIN:DAYLIGHT
TZOFFSETFROM:+0100
TZOFFSETTO:+0200
TZNAME:CEST
DTSTART:20210328T010000
END:DAYLIGHT
BEGIN:STANDARD
TZOFFSETFROM:+0200
TZOFFSETTO:+0100
TZNAME:CET
DTSTART:20211031T010000
END:STANDARD
BEGIN:DAYLIGHT
TZOFFSETFROM:+0100
TZOFFSETTO:+0200
TZNAME:CEST
DTSTART:20220327T010000
END:DAYLIGHT
BEGIN:STANDARD
TZOFFSETFROM:+0200
TZOFFSETTO:+0100
TZNAME:CET
DTSTART:20221030T010000
END:STANDARD
BEGIN:DAYLIGHT
TZOFFSETFROM:+0100
TZOFFSETTO:+0200
TZNAME:CEST
DTSTART:20230326T010000
END:DAYLIGHT
BEGIN:STANDARD
TZOFFSETFROM:+0200
TZOFFSETTO:+0100
TZNAME:CET
DTSTART:20231029T010000
END:STANDARD
END:VTIMEZONE
BEGIN:VEVENT
DTSTART;TZID=Europe/Paris:20221021T180000
DTEND;TZID=Europe/Paris:20221021T200000
DTSTAMP:20260422T043338
CREATED:20220901T164132Z
LAST-MODIFIED:20220901T164132Z
UID:1128-1666375200-1666382400@www.asso-bschick.fr
SUMMARY:Conférence "Les métiers d'autrefois s'affichent dans nos rues"
DESCRIPTION:Monsieur Philippe LEGIN\, ancien professeur agrégé d’Histoire et Président de la société d’Histoire de Guebwiller\, développera une thématique concernant Guebwiller\, autour des emblèmes des métiers d’autrefois que nous croisons dans les rues et des corporations qui y sont rattachées.\n\n\n\nQuand les emblèmes de métiers s’affichaient sur les façades…\n\n\n\nDepuis le Moyen Age\, les insignes professionnels se sont multipliés sur les façades des constructions pour attirer les éventuels acheteurs. Majoritairement illettrés\, ceux-ci avaient besoin de repères faciles à comprendre pour s’orienter dans les rues des villes et villages et se diriger vers le bon fournisseur.\n\nDe là\, la floraison des symboles professionnels qui guidaient nos ancêtres à la recherche d’un artisan ou d’un commerçant. Les enseignes lumineuses d’aujourd’hui en sont les lointaines descendantes avec leurs logos que la publicité omniprésente a rendus familiers.\n\n\n\nL’Alsace est l’une des régions d’Europe les plus riches en insignes professionnels.\nMais qui sait encore aujourd’hui les décrypter ?\n\nLes anciens symboles ont souvent perdu leur sens originel.\nQui sait encore que le chiffre 4 était l’insigne du marchand ou le curoir celui du laboureur ?\n\nGuebwiller possède\, ou a possédé\, une petite trentaine de ces insignes gravés sur les linteaux de portes ou de fenêtres. Rénovations et démolitions en ont fait disparaître un bon nombre.\n\n\n\nCette promenade dans le temps et dans les rues de nos localités permettra de découvrir des pans entiers de la vie quotidienne et des mentalités d’autrefois.
URL:http://www.asso-bschick.fr/event/conference-les-metiers-dautrefois-saffichent-dans-nos-rues/
LOCATION:Maison Marguerite Kuentz\, 1 rue Jean Moulin\, Guebwiller\, Alsace\, 68500\, France
CATEGORIES:Conférence
ORGANIZER;CN="Association Brigitte Schick":MAILTO:contact@asso-bschick.fr
END:VEVENT
END:VCALENDAR