BEGIN:VCALENDAR
VERSION:2.0
PRODID:-//Association Brigitte Schick - ECPv6.15.17//NONSGML v1.0//EN
CALSCALE:GREGORIAN
METHOD:PUBLISH
X-WR-CALNAME:Association Brigitte Schick
X-ORIGINAL-URL:http://www.asso-bschick.fr
X-WR-CALDESC:Évènements pour Association Brigitte Schick
REFRESH-INTERVAL;VALUE=DURATION:PT1H
X-Robots-Tag:noindex
X-PUBLISHED-TTL:PT1H
BEGIN:VTIMEZONE
TZID:Europe/Paris
BEGIN:DAYLIGHT
TZOFFSETFROM:+0100
TZOFFSETTO:+0200
TZNAME:CEST
DTSTART:20210328T010000
END:DAYLIGHT
BEGIN:STANDARD
TZOFFSETFROM:+0200
TZOFFSETTO:+0100
TZNAME:CET
DTSTART:20211031T010000
END:STANDARD
BEGIN:DAYLIGHT
TZOFFSETFROM:+0100
TZOFFSETTO:+0200
TZNAME:CEST
DTSTART:20220327T010000
END:DAYLIGHT
BEGIN:STANDARD
TZOFFSETFROM:+0200
TZOFFSETTO:+0100
TZNAME:CET
DTSTART:20221030T010000
END:STANDARD
BEGIN:DAYLIGHT
TZOFFSETFROM:+0100
TZOFFSETTO:+0200
TZNAME:CEST
DTSTART:20230326T010000
END:DAYLIGHT
BEGIN:STANDARD
TZOFFSETFROM:+0200
TZOFFSETTO:+0100
TZNAME:CET
DTSTART:20231029T010000
END:STANDARD
END:VTIMEZONE
BEGIN:VEVENT
DTSTART;TZID=Europe/Paris:20221209T190000
DTEND;TZID=Europe/Paris:20221209T200000
DTSTAMP:20260422T081506
CREATED:20221117T122821Z
LAST-MODIFIED:20221117T192451Z
UID:1130-1670612400-1670616000@www.asso-bschick.fr
SUMMARY:Conférence Frédéric Guillaume Kreutzberger : la fantastique épopée d’un enfant de Guebwiller
DESCRIPTION:A l’occasion du 200ème anniversaire de la naissance Frédéric Guillaume Kreutzberger\, conjointement avec l’association Théodore Deck\, l’association Brigitte Schick vous propose une conférence. \nLa conférence sera animée par M. Jean-Marie Schelcher aura pour thème:\n« Frédéric Guillaume Kreutzberger : la fantastique épopée d’un enfant de Guebwiller » \nDécouvrez le parcours de ce guebwillerois\, aussi discret que brillant\, qui a joué un rôle primordial dans l’évolution de l’armement au XIXe siècle.
URL:http://www.asso-bschick.fr/event/conference-frederic-guillaume-kreutzberger-la-fantastique-epopee-dun-enfant-de-guebwiller/
LOCATION:Maison Marguerite Kuentz\, 1 rue Jean Moulin\, Guebwiller\, Alsace\, 68500\, France
CATEGORIES:Conférence
ORGANIZER;CN="Association Brigitte Schick":MAILTO:contact@asso-bschick.fr
END:VEVENT
END:VCALENDAR