BEGIN:VCALENDAR
VERSION:2.0
PRODID:-//Association Brigitte Schick - ECPv6.15.17//NONSGML v1.0//EN
CALSCALE:GREGORIAN
METHOD:PUBLISH
X-WR-CALNAME:Association Brigitte Schick
X-ORIGINAL-URL:http://www.asso-bschick.fr
X-WR-CALDESC:Évènements pour Association Brigitte Schick
REFRESH-INTERVAL;VALUE=DURATION:PT1H
X-Robots-Tag:noindex
X-PUBLISHED-TTL:PT1H
BEGIN:VTIMEZONE
TZID:Europe/Paris
BEGIN:DAYLIGHT
TZOFFSETFROM:+0100
TZOFFSETTO:+0200
TZNAME:CEST
DTSTART:20190331T010000
END:DAYLIGHT
BEGIN:STANDARD
TZOFFSETFROM:+0200
TZOFFSETTO:+0100
TZNAME:CET
DTSTART:20191027T010000
END:STANDARD
BEGIN:DAYLIGHT
TZOFFSETFROM:+0100
TZOFFSETTO:+0200
TZNAME:CEST
DTSTART:20200329T010000
END:DAYLIGHT
BEGIN:STANDARD
TZOFFSETFROM:+0200
TZOFFSETTO:+0100
TZNAME:CET
DTSTART:20201025T010000
END:STANDARD
BEGIN:DAYLIGHT
TZOFFSETFROM:+0100
TZOFFSETTO:+0200
TZNAME:CEST
DTSTART:20210328T010000
END:DAYLIGHT
BEGIN:STANDARD
TZOFFSETFROM:+0200
TZOFFSETTO:+0100
TZNAME:CET
DTSTART:20211031T010000
END:STANDARD
END:VTIMEZONE
BEGIN:VEVENT
DTSTART;TZID=Europe/Paris:20200919T143000
DTEND;TZID=Europe/Paris:20200919T170000
DTSTAMP:20260424T012403
CREATED:20200615T222329Z
LAST-MODIFIED:20200615T230311Z
UID:693-1600525800-1600534800@www.asso-bschick.fr
SUMMARY:Fontaine\, je ne boirai pas de ton eau ! (les fontaines asséchées de Guebwiller)
DESCRIPTION:Dans le cadre des Journées Européennes du Patrimoine 2020\, l’association Brigitte Schick vous propose: \nFontaine\, je ne boirai pas de ton eau ! \n \nA Guebwiller\, cette devise est la réalité dans sa plus simple expression depuis plus d’une décennie pour la majorité de nos fontaines :\n Toutes mises à sec\, certaines mêmes mises à sac… \nD’ici quelques temps\, voici bientôt une génération que certain(e)s ne connaissent les fontaines guebwilleroises comme étant simplement de gros pot de fleurs. \nPour redécouvrir ce patrimoine en perdition qui faisait la beauté mais aussi l’animation et le lien social de nos places et modestes placettes\, nous vous proposons une sortie pédestre dans les rues de Guebwiller. \nAu cours de notre itinéraire\, nous partirons à la découverte des fontaines (anciennes comme\ncontemporaines) qui font/faisaient la beauté de notre ville. \nLors de notre passage\, devant celles-ci nous évoquerons les origines de chacune. \nCette sortie se présente sous la forme d’un circuit pédestre urbain d’une durée de deux heures\nenviron qui nous amènera du Parc de la Marseillaise à la fin de la Trame verte (le long de la Lauch). \nRetrouvez touts les détails du parcours dans le document suivant: \nFontaine\, je ne boirai pas de ton eau (les fontaines asséchées de Guebwiller)
URL:http://www.asso-bschick.fr/event/fontaine-je-ne-boirai-pas-de-ton-eau-les-fontaines-assechees-de-guebwiller/
CATEGORIES:Conférence,Visite
ORGANIZER;CN="Association Brigitte Schick":MAILTO:contact@asso-bschick.fr
END:VEVENT
END:VCALENDAR